BEGIN:VCALENDAR
VERSION:2.0
PRODID:-//Gesellschaft unterm Apfelbaum - ECPv6.15.20//NONSGML v1.0//EN
CALSCALE:GREGORIAN
METHOD:PUBLISH
X-ORIGINAL-URL:https://gesellschaft-unterm-apfelbaum.org
X-WR-CALDESC:Veranstaltungen für Gesellschaft unterm Apfelbaum
REFRESH-INTERVAL;VALUE=DURATION:PT1H
X-Robots-Tag:noindex
X-PUBLISHED-TTL:PT1H
BEGIN:VTIMEZONE
TZID:Europe/Berlin
BEGIN:DAYLIGHT
TZOFFSETFROM:+0100
TZOFFSETTO:+0200
TZNAME:CEST
DTSTART:20200329T010000
END:DAYLIGHT
BEGIN:STANDARD
TZOFFSETFROM:+0200
TZOFFSETTO:+0100
TZNAME:CET
DTSTART:20201025T010000
END:STANDARD
BEGIN:DAYLIGHT
TZOFFSETFROM:+0100
TZOFFSETTO:+0200
TZNAME:CEST
DTSTART:20210328T010000
END:DAYLIGHT
BEGIN:STANDARD
TZOFFSETFROM:+0200
TZOFFSETTO:+0100
TZNAME:CET
DTSTART:20211031T010000
END:STANDARD
BEGIN:DAYLIGHT
TZOFFSETFROM:+0100
TZOFFSETTO:+0200
TZNAME:CEST
DTSTART:20220327T010000
END:DAYLIGHT
BEGIN:STANDARD
TZOFFSETFROM:+0200
TZOFFSETTO:+0100
TZNAME:CET
DTSTART:20221030T010000
END:STANDARD
END:VTIMEZONE
BEGIN:VEVENT
DTSTART;TZID=Europe/Berlin:20210808T193000
DTEND;TZID=Europe/Berlin:20210808T193000
DTSTAMP:20260422T020136
CREATED:20210620T123901Z
LAST-MODIFIED:20210807T170845Z
UID:667-1628451000-1628451000@gesellschaft-unterm-apfelbaum.org
SUMMARY:Ein Klavierkabarett - „V o r g e s p i e l t e   H ö h e p u n k t e 2021“
DESCRIPTION:Künstler: Klaus Kohler\, der beflügelte Mann \nDer Klavierkabarettist Klaus Kohler beherrscht die Klaviatur der Komik ebenso virtuos wie das Klavierspiel. Fliegend wechselt er seine Bühnengestalt vom Frauenversteher zum Macho vom Looser zum Winner. Immer der Frage auf der Spur: Wie soll er eigentlich sein – der Mann! Mit einem Zwinkern im Auge spielt Kohler den begehrenswertesten Frauenhelden\, den die Damenwelt je übersehen hat. \nDas Publikum erwartet ein kabarettistisches Feuerwerk mit allen Facetten die gutes Musiktheater ausmachen. \nKarten auch an der Abendkasse!
URL:https://gesellschaft-unterm-apfelbaum.org/veranstaltung/ein-klavierkabarett-v-o-r-g-e-s-p-i-e-l-t-e-h-oe-h-e-p-u-n-k-t-e-2021/
LOCATION:Icking\, Pfaffenleite 16\, Icking\, Bayern\, 82057\, Deutschland
CATEGORIES:Kabarett
ATTACH;FMTTYPE=image/jpeg:https://gesellschaft-unterm-apfelbaum.org/wp-content/uploads/2021/06/Kabarett2021.jpg
END:VEVENT
END:VCALENDAR