BEGIN:VCALENDAR
VERSION:2.0
PRODID:-//Gesellschaft unterm Apfelbaum - ECPv6.15.20//NONSGML v1.0//EN
CALSCALE:GREGORIAN
METHOD:PUBLISH
X-WR-CALNAME:Gesellschaft unterm Apfelbaum
X-ORIGINAL-URL:https://gesellschaft-unterm-apfelbaum.org
X-WR-CALDESC:Veranstaltungen für Gesellschaft unterm Apfelbaum
REFRESH-INTERVAL;VALUE=DURATION:PT1H
X-Robots-Tag:noindex
X-PUBLISHED-TTL:PT1H
BEGIN:VTIMEZONE
TZID:Europe/Berlin
BEGIN:DAYLIGHT
TZOFFSETFROM:+0100
TZOFFSETTO:+0200
TZNAME:CEST
DTSTART:20230326T010000
END:DAYLIGHT
BEGIN:STANDARD
TZOFFSETFROM:+0200
TZOFFSETTO:+0100
TZNAME:CET
DTSTART:20231029T010000
END:STANDARD
BEGIN:DAYLIGHT
TZOFFSETFROM:+0100
TZOFFSETTO:+0200
TZNAME:CEST
DTSTART:20240331T010000
END:DAYLIGHT
BEGIN:STANDARD
TZOFFSETFROM:+0200
TZOFFSETTO:+0100
TZNAME:CET
DTSTART:20241027T010000
END:STANDARD
BEGIN:DAYLIGHT
TZOFFSETFROM:+0100
TZOFFSETTO:+0200
TZNAME:CEST
DTSTART:20250330T010000
END:DAYLIGHT
BEGIN:STANDARD
TZOFFSETFROM:+0200
TZOFFSETTO:+0100
TZNAME:CET
DTSTART:20251026T010000
END:STANDARD
END:VTIMEZONE
BEGIN:VEVENT
DTSTART;TZID=Europe/Berlin:20240725T200000
DTEND;TZID=Europe/Berlin:20240725T220000
DTSTAMP:20260421T154432
CREATED:20240623T134319Z
LAST-MODIFIED:20240623T135543Z
UID:1829-1721937600-1721944800@gesellschaft-unterm-apfelbaum.org
SUMMARY:Blue Strings
DESCRIPTION:Konzert mit der jungen StreicherBigBand Bluestrings \nLetzte Aufführung vor der großen Touree durch die Provence/Südfrankreich \nFrank Wunderer begeistern die Bluestrings in aktueller Besetzung mit mitreißender Spielfreude\, gekonntem Satzspiel und kreativem Solospiel ihr Publikum. Die jungen J a z z s t r e i c h e r I n n e n kreieren ihren eigenen\, innovativen Sound und überzeugen mit Spielwitz\, ausgefallenen Spieltechniken und Experimentierfreude: Mit eigenen Arrangements der jungen KünstlerInnen.\nSie wurde 2004 gegründet und tritt derzeit in der Besetzung 7 Violinen\, 2 Viola\, 4 Celli und kb auf.\nUnter Leitung des Jazzgeigers Frank Wunder
URL:https://gesellschaft-unterm-apfelbaum.org/veranstaltung/blue-strings/
LOCATION:Icking\, Pfaffenleite 16\, Icking\, Bayern\, 82057\, Deutschland
CATEGORIES:Konzert
ATTACH;FMTTYPE=image/jpeg:https://gesellschaft-unterm-apfelbaum.org/wp-content/uploads/2024/06/blue-strings.jpg
ORGANIZER;CN="Gesellschaft  unter dem Apfelbaum":MAILTO:info@gesellschaft-unterm-apfelbaum.org
END:VEVENT
END:VCALENDAR