BEGIN:VCALENDAR
VERSION:2.0
PRODID:-//Gesellschaft unterm Apfelbaum - ECPv6.15.20//NONSGML v1.0//EN
CALSCALE:GREGORIAN
METHOD:PUBLISH
X-WR-CALNAME:Gesellschaft unterm Apfelbaum
X-ORIGINAL-URL:https://gesellschaft-unterm-apfelbaum.org
X-WR-CALDESC:Veranstaltungen für Gesellschaft unterm Apfelbaum
REFRESH-INTERVAL;VALUE=DURATION:PT1H
X-Robots-Tag:noindex
X-PUBLISHED-TTL:PT1H
BEGIN:VTIMEZONE
TZID:Europe/Berlin
BEGIN:DAYLIGHT
TZOFFSETFROM:+0100
TZOFFSETTO:+0200
TZNAME:CEST
DTSTART:20230326T010000
END:DAYLIGHT
BEGIN:STANDARD
TZOFFSETFROM:+0200
TZOFFSETTO:+0100
TZNAME:CET
DTSTART:20231029T010000
END:STANDARD
BEGIN:DAYLIGHT
TZOFFSETFROM:+0100
TZOFFSETTO:+0200
TZNAME:CEST
DTSTART:20240331T010000
END:DAYLIGHT
BEGIN:STANDARD
TZOFFSETFROM:+0200
TZOFFSETTO:+0100
TZNAME:CET
DTSTART:20241027T010000
END:STANDARD
BEGIN:DAYLIGHT
TZOFFSETFROM:+0100
TZOFFSETTO:+0200
TZNAME:CEST
DTSTART:20250330T010000
END:DAYLIGHT
BEGIN:STANDARD
TZOFFSETFROM:+0200
TZOFFSETTO:+0100
TZNAME:CET
DTSTART:20251026T010000
END:STANDARD
END:VTIMEZONE
BEGIN:VEVENT
DTSTART;TZID=Europe/Berlin:20240727T200000
DTEND;TZID=Europe/Berlin:20240727T220000
DTSTAMP:20260422T032202
CREATED:20240623T140008Z
LAST-MODIFIED:20240623T140019Z
UID:1849-1722110400-1722117600@gesellschaft-unterm-apfelbaum.org
SUMMARY:Isara Rapidus
DESCRIPTION:Konzert \nJosef Brustmann\, Sebastian Horn\, Benni Schäfer \nWir singen eigene neue Lieder\, die uns unser Leben schreibt\, und wir singen natürlich auch alte bayrische Volkslieder\, weil die genial schön sind – ein unschätzbares und schwer unterschätztes Erbgut. Dabei lassen wir die alten Lieder so\, wie sie sind – leuchten da aber möglichst viele unbekannte Ecken aus. Dabei hat sie oft auch etwas sehr Geheimnisvolles\, Magisches\, Abgrundtiefes\, Erotisches.\nUnd diese ganze Bandbreite wollen wir haben\, die ganze Schönheit und urwüchsige Kraft\, die da drinsteckt\, aufzeigen.“
URL:https://gesellschaft-unterm-apfelbaum.org/veranstaltung/isara-rapidus/
LOCATION:Icking\, Pfaffenleite 16\, Icking\, Bayern\, 82057\, Deutschland
CATEGORIES:Konzert
ATTACH;FMTTYPE=image/jpeg:https://gesellschaft-unterm-apfelbaum.org/wp-content/uploads/2024/06/isara-rapidus.jpg
ORGANIZER;CN="Gesellschaft  unter dem Apfelbaum":MAILTO:info@gesellschaft-unterm-apfelbaum.org
END:VEVENT
END:VCALENDAR