BEGIN:VCALENDAR
VERSION:2.0
PRODID:-//Gesellschaft unterm Apfelbaum - ECPv6.15.20//NONSGML v1.0//EN
CALSCALE:GREGORIAN
METHOD:PUBLISH
X-WR-CALNAME:Gesellschaft unterm Apfelbaum
X-ORIGINAL-URL:https://gesellschaft-unterm-apfelbaum.org
X-WR-CALDESC:Veranstaltungen für Gesellschaft unterm Apfelbaum
REFRESH-INTERVAL;VALUE=DURATION:PT1H
X-Robots-Tag:noindex
X-PUBLISHED-TTL:PT1H
BEGIN:VTIMEZONE
TZID:Europe/Berlin
BEGIN:DAYLIGHT
TZOFFSETFROM:+0100
TZOFFSETTO:+0200
TZNAME:CEST
DTSTART:20230326T010000
END:DAYLIGHT
BEGIN:STANDARD
TZOFFSETFROM:+0200
TZOFFSETTO:+0100
TZNAME:CET
DTSTART:20231029T010000
END:STANDARD
BEGIN:DAYLIGHT
TZOFFSETFROM:+0100
TZOFFSETTO:+0200
TZNAME:CEST
DTSTART:20240331T010000
END:DAYLIGHT
BEGIN:STANDARD
TZOFFSETFROM:+0200
TZOFFSETTO:+0100
TZNAME:CET
DTSTART:20241027T010000
END:STANDARD
BEGIN:DAYLIGHT
TZOFFSETFROM:+0100
TZOFFSETTO:+0200
TZNAME:CEST
DTSTART:20250330T010000
END:DAYLIGHT
BEGIN:STANDARD
TZOFFSETFROM:+0200
TZOFFSETTO:+0100
TZNAME:CET
DTSTART:20251026T010000
END:STANDARD
END:VTIMEZONE
BEGIN:VEVENT
DTSTART;TZID=Europe/Berlin:20240728T200000
DTEND;TZID=Europe/Berlin:20240728T220000
DTSTAMP:20260422T014526
CREATED:20240623T140759Z
LAST-MODIFIED:20240623T140920Z
UID:1856-1722196800-1722204000@gesellschaft-unterm-apfelbaum.org
SUMMARY:Der Kontrabass
DESCRIPTION:Theater \nPatrick Süskind \nMichael A. Grimm\, Inszenierung: Georg Büttel\, Produktion: Hofspielhaus München \n„Nein\, geboren wird man wirklich nicht zum Kontrabass. Der Weg dorthin führt über Umweg\, Zufall und Enttäuschung.“\nEin einsamer Mann trinkt und räsoniert – über seinen Beruf als Orchestermusiker\, über die Berufung zur Musik\, über das Wesen der Kunst und über die Liebe.\nErleben Sie die Abgründe und Untiefen einer Künstlerseelein Patrick Süskinds virtuosem Meisterstück! \nMonika-Bleibtreu-Preis der PrivatTheaterTage 2022\nHamburg
URL:https://gesellschaft-unterm-apfelbaum.org/veranstaltung/der-kontrabass/
LOCATION:Icking\, Pfaffenleite 16\, Icking\, Bayern\, 82057\, Deutschland
CATEGORIES:Theater
ATTACH;FMTTYPE=image/jpeg:https://gesellschaft-unterm-apfelbaum.org/wp-content/uploads/2024/06/patrick-sueskind-kontrabass.jpg
ORGANIZER;CN="Gesellschaft  unter dem Apfelbaum":MAILTO:info@gesellschaft-unterm-apfelbaum.org
END:VEVENT
END:VCALENDAR