BEGIN:VCALENDAR
VERSION:2.0
PRODID:-//Gesellschaft unterm Apfelbaum - ECPv6.15.20//NONSGML v1.0//EN
CALSCALE:GREGORIAN
METHOD:PUBLISH
X-ORIGINAL-URL:https://gesellschaft-unterm-apfelbaum.org
X-WR-CALDESC:Veranstaltungen für Gesellschaft unterm Apfelbaum
REFRESH-INTERVAL;VALUE=DURATION:PT1H
X-Robots-Tag:noindex
X-PUBLISHED-TTL:PT1H
BEGIN:VTIMEZONE
TZID:Europe/Berlin
BEGIN:DAYLIGHT
TZOFFSETFROM:+0100
TZOFFSETTO:+0200
TZNAME:CEST
DTSTART:20230326T010000
END:DAYLIGHT
BEGIN:STANDARD
TZOFFSETFROM:+0200
TZOFFSETTO:+0100
TZNAME:CET
DTSTART:20231029T010000
END:STANDARD
BEGIN:DAYLIGHT
TZOFFSETFROM:+0100
TZOFFSETTO:+0200
TZNAME:CEST
DTSTART:20240331T010000
END:DAYLIGHT
BEGIN:STANDARD
TZOFFSETFROM:+0200
TZOFFSETTO:+0100
TZNAME:CET
DTSTART:20241027T010000
END:STANDARD
BEGIN:DAYLIGHT
TZOFFSETFROM:+0100
TZOFFSETTO:+0200
TZNAME:CEST
DTSTART:20250330T010000
END:DAYLIGHT
BEGIN:STANDARD
TZOFFSETFROM:+0200
TZOFFSETTO:+0100
TZNAME:CET
DTSTART:20251026T010000
END:STANDARD
END:VTIMEZONE
BEGIN:VEVENT
DTSTART;TZID=Europe/Berlin:20240801T200000
DTEND;TZID=Europe/Berlin:20240801T200000
DTSTAMP:20260422T032712
CREATED:20240623T142229Z
LAST-MODIFIED:20240623T142229Z
UID:1862-1722542400-1722542400@gesellschaft-unterm-apfelbaum.org
SUMMARY:Jurassic Park
DESCRIPTION:Wild Live Kabarett \nJulia von Miller\, Ecco Meinecke \nTyrannosaurus Mann und seine große amüsante Spielwiese\, den Jurassic Park!\nDas Patriarchat und wie es vom Paläozän bis heute aussah und aussieht… Das Bild der Frau und die Nase des Mannes… es ist doch wirklich zum Haare raufen! Kultivierte\, kritische Unterhaltung\, persönliche Betroffenheit\, mitreißend rührende Gesangsdarbietungen\, polternde Gefühlsausbrüche und Entgleisungen\, abwechselnd mit feinsten Tanzeinlagen und schließlich\, als Mittel der letzten Wahl\, denn es ist immer irgendwo Wahlkampf und die Dinos sterbeneinfach nicht aus: Sketche Sketche Sketche… \n 
URL:https://gesellschaft-unterm-apfelbaum.org/veranstaltung/jurassic-park/
LOCATION:Icking\, Pfaffenleite 16\, Icking\, Bayern\, 82057\, Deutschland
CATEGORIES:Kabarett
ATTACH;FMTTYPE=image/jpeg:https://gesellschaft-unterm-apfelbaum.org/wp-content/uploads/2024/06/jurassic-park.jpg
ORGANIZER;CN="Gesellschaft  unter dem Apfelbaum":MAILTO:info@gesellschaft-unterm-apfelbaum.org
END:VEVENT
BEGIN:VEVENT
DTSTART;TZID=Europe/Berlin:20240802T203000
DTEND;TZID=Europe/Berlin:20240802T223000
DTSTAMP:20260422T032712
CREATED:20240624T080250Z
LAST-MODIFIED:20240801T070901Z
UID:1881-1722630600-1722637800@gesellschaft-unterm-apfelbaum.org
SUMMARY:Bericht für eine Akademie - Franz Kafka
DESCRIPTION:Theater \nMartin Feifel \n„Es war so leicht die Menschen nachzuahmen. Spucken konnte ich schon nach den ersten Tagen. Wir spuckten einander dann gegenseitig ins Gesicht…..“\nDer „Bericht“ ist eine Demontage der selbstgerechten Zufriedenheit der sogenannten „Krone“ der Schöpfung: Des Menschen. Vom Affen zum gefeierten Varietekünstler.\nEine Reise.
URL:https://gesellschaft-unterm-apfelbaum.org/veranstaltung/bericht-fuer-eine-akademie-franz-kafka-2/
LOCATION:Icking\, Pfaffenleite 16\, Icking\, Bayern\, 82057\, Deutschland
CATEGORIES:Theater
ATTACH;FMTTYPE=image/jpeg:https://gesellschaft-unterm-apfelbaum.org/wp-content/uploads/2024/06/akademie-franz-kafka.jpg
ORGANIZER;CN="Gesellschaft  unter dem Apfelbaum":MAILTO:info@gesellschaft-unterm-apfelbaum.org
END:VEVENT
BEGIN:VEVENT
DTSTART;TZID=Europe/Berlin:20240803T200000
DTEND;TZID=Europe/Berlin:20240803T220000
DTSTAMP:20260422T032712
CREATED:20240623T143210Z
LAST-MODIFIED:20240703T101438Z
UID:1871-1722715200-1722722400@gesellschaft-unterm-apfelbaum.org
SUMMARY:Grüne Kohle
DESCRIPTION:Kabarett \nChin Meyer \nDie Crazy-Geld-und-Umweltshow mit Chin Meyer.\nSchonungslos entlarvt Chin Meyer\, der Großmeister des Humor-Invests unsere Märchen um nachhaltige Lebens- und Finanzlügen. Stets aktuell spielt er auf der ganzen Klaviatur der Wohlfühl- Umwelt-Kuschel-Romantik und stellt sich die Frage: Rettet Geld die Welt? Oder überlebt am Ende doch nur bunt bedrucktes Papier? Denn Umweltrettung ohne Humor hat die gleichen Erfolgsaussichten\, wie Bankenrettung ohne Geld oder Online-Dating ohne Strom. Chin Meyer ist sich sicher: Lachen löst vielleicht keine Probleme- aber definitiv die Stimmung.
URL:https://gesellschaft-unterm-apfelbaum.org/veranstaltung/gruene-kohle/
LOCATION:Icking\, Pfaffenleite 16\, Icking\, Bayern\, 82057\, Deutschland
CATEGORIES:Kabarett
ATTACH;FMTTYPE=image/jpeg:https://gesellschaft-unterm-apfelbaum.org/wp-content/uploads/2024/06/gruene-kohle.jpg
ORGANIZER;CN="Gesellschaft  unter dem Apfelbaum":MAILTO:info@gesellschaft-unterm-apfelbaum.org
END:VEVENT
BEGIN:VEVENT
DTSTART;TZID=Europe/Berlin:20240804T110000
DTEND;TZID=Europe/Berlin:20240804T120000
DTSTAMP:20260422T032712
CREATED:20240623T143509Z
LAST-MODIFIED:20240623T143509Z
UID:1875-1722769200-1722772800@gesellschaft-unterm-apfelbaum.org
SUMMARY:Glucks „Der Bücherschatz“
DESCRIPTION:Clowness Kinder Theater \nJudith Gorgass\nKirstie Handel \n„Der Bücherschatz“ – ein clowneskes Theaterstück über die Faszination für Bücher\, die Liebe zum Lesen und das humorvolle Aufeinandertreffen zweier Generationen: Glucks und ihre 92 1/2 jährige Oma finden ein mysteriöses Buch\, in dem sie erstaunlicherweise selbst die Heldinnen sind und auf eine große Reise rund um die Welt geschickt werden\, auf der Suche nach dem verschollenen Bücherschatz.\nWerden sie ihn finden? Das Buchstaben-Abenteuer beginnt! \n  \nBitte reservieren Sie Karten für das Kinder-Theater telefonisch. Danke!
URL:https://gesellschaft-unterm-apfelbaum.org/veranstaltung/glucks-der-buecherschatz/
LOCATION:Bayern
CATEGORIES:Kinder
ATTACH;FMTTYPE=image/jpeg:https://gesellschaft-unterm-apfelbaum.org/wp-content/uploads/2024/06/glucks-buecherschatz.jpg
END:VEVENT
BEGIN:VEVENT
DTSTART;TZID=Europe/Berlin:20240804T200000
DTEND;TZID=Europe/Berlin:20240804T220000
DTSTAMP:20260422T032712
CREATED:20240623T143914Z
LAST-MODIFIED:20240703T101542Z
UID:1877-1722801600-1722808800@gesellschaft-unterm-apfelbaum.org
SUMMARY:Fernweh nach Alpenistan
DESCRIPTION:Konzert \nThomas Gruber: diatonische knopfhar monika & hackbrett\nMaria Friedrich: Cello\nSabine Gruber-Heberlein: Harfe \nDie drei Musiker aus dem südbayerischen 5-Seen Land spielen mit einer Mischung aus Klassik\, Folklore und Worldjazz. Ihre Konzerte sind eine Mischung aus einer skurrillen Geschichte\, bewegten Bildern und leidenschaftlicher Musik. Mal im Dreiviertel Ländler\, im Tango Taumel\, mal mit jazzigen und rasanten Rhythmen oder sehnsuchtsvoll an die Klassik angelehnt.\nAusgezeichnet mit dem internationalen world music award “creole”
URL:https://gesellschaft-unterm-apfelbaum.org/veranstaltung/fernweh-nach-alpenistan/
LOCATION:Icking\, Pfaffenleite 16\, Icking\, Bayern\, 82057\, Deutschland
CATEGORIES:Konzert
ATTACH;FMTTYPE=image/jpeg:https://gesellschaft-unterm-apfelbaum.org/wp-content/uploads/2024/06/fernweh-nach-alpenistan.jpg
ORGANIZER;CN="Gesellschaft  unter dem Apfelbaum":MAILTO:info@gesellschaft-unterm-apfelbaum.org
END:VEVENT
END:VCALENDAR